BEGIN:VCALENDAR
VERSION:2.0
PRODID:-//wp-events-plugin.com//7.2.3.1//EN
BEGIN:VEVENT
UID:346@jazz-prien.de
DTSTART:20200201T190000Z
DTEND:20200201T210000Z
DTSTAMP:20200124T231736Z
URL:http://jazz-prien.de/events/funky-reflection-2
SUMMARY:Funky Reflection
DESCRIPTION:Mit dem Jahr 2020 beginnt im Kulturraum Prien eine neue Reihe v
 on Veranstaltungen. An jedem ersten Samstag im Monat wird hier jeweils von
  19.00 – 21.00 Uhr ein Live-Musik-Konzert angeboten.\n\nDen Anfang macht
  am 01. Februar die Band „Funky Reflection“ aus dem Raum Rosenheim. Ne
 un junge Musiker/innen mit einem sehr vielfältigen Programm von Funk übe
 r Swing\, Pop\, Soul und Jazz\, bekannte Cover-Hits in eigenen sehr hören
 swerten Interpretationen\, wie auch musikalisch ausgereifte Eigenkompositi
 onen. Viele gekonnt eingesetzte Instrumente und versierte Gesangsstimmen e
 rgänzen sich zu einem eigenem und sehr gelungenen Sound.\n\nEin musikalis
 cher Leckerbissen\, den sich Freunde der Live-Musik nicht entgehen lassen 
 sollten\, bei freiem Eintritt mit freiwilliger Spende. Und im Anschluss di
 e beliebte Freitanzdisco im Kulturraum „Come and Dance“.\n\nEintritt f
 rei (Hut geht rum)
ATTACH;FMTTYPE=image/jpeg:http://jazz-prien.de/wp-content/uploads/2020/01/
 Funky-Reflection-scaled.jpg
LOCATION:Kulturraum Prien\, Ernsdorfer Str. 2\, Prien\, Bayern\, 83209\, De
 utschland
GEO:47.85013;12.350087
X-APPLE-STRUCTURED-LOCATION;VALUE=URI;X-ADDRESS=Ernsdorfer Str. 2\, Prien\,
  Bayern\, 83209\, Deutschland;X-APPLE-RADIUS=100;X-TITLE=Kulturraum Prien:
 geo:47.85013,12.350087
END:VEVENT
END:VCALENDAR